BEGIN:VCALENDAR
VERSION:2.0
PRODID:spatie/icalendar-generator
DESCRIPTION:Events from Capital Carousels Round Dance Club
X-WR-CALDESC:Events from Capital Carousels Round Dance Club
REFRESH-INTERVAL;VALUE=DURATION:PT1440M
X-PUBLISHED-TTL:PT1440M
BEGIN:VTIMEZONE
TZID:America/Toronto
BEGIN:STANDARD
DTSTART:20251102T020000Z
TZOFFSETFROM:-0400
TZOFFSETTO:-0500
END:STANDARD
BEGIN:DAYLIGHT
DTSTART:20260308T020000Z
TZOFFSETFROM:-0500
TZOFFSETTO:-0400
END:DAYLIGHT
BEGIN:STANDARD
DTSTART:20261101T020000Z
TZOFFSETFROM:-0400
TZOFFSETTO:-0500
END:STANDARD
END:VTIMEZONE
BEGIN:VTIMEZONE
TZID:UTC
BEGIN:STANDARD
DTSTART:20250727T175842Z
TZOFFSETFROM:+0000
TZOFFSETTO:+0000
END:STANDARD
END:VTIMEZONE
BEGIN:VEVENT
UID:37-7
DTSTAMP:20260423T175842Z
SUMMARY:Dancing
LOCATION:Parkdale United Church 429 Parkdale Ave.  Ottawa Ontario
ORGANIZER;CN=WebKeeper:MAILTO:WebKeeper@CapitalCarousels.ca
RRULE:FREQ=WEEKLY;UNTIL=20260604T000000Z
DTSTART;TZID=America/Toronto:20260514T100000
DTEND;TZID=America/Toronto:20260514T120000
X-ALT-DESC;FMTTYPE=TEXT/HTML:
CATEGORIES:General
URL;VALUE=URI:https://capitalcarousels.ca/mc-events/dancing-5/?mc_id=37
METHOD:PUBLISH
END:VEVENT
END:VCALENDAR